BEGIN:VCALENDAR
VERSION:2.0
PRODID:-//Women of Tomorrow - ECPv6.15.20//NONSGML v1.0//EN
CALSCALE:GREGORIAN
METHOD:PUBLISH
X-WR-CALNAME:Women of Tomorrow
X-ORIGINAL-URL:https://womenoftomorrow.org
X-WR-CALDESC:Events for Women of Tomorrow
REFRESH-INTERVAL;VALUE=DURATION:PT1H
X-Robots-Tag:noindex
X-PUBLISHED-TTL:PT1H
BEGIN:VTIMEZONE
TZID:America/Detroit
BEGIN:DAYLIGHT
TZOFFSETFROM:-0500
TZOFFSETTO:-0400
TZNAME:EDT
DTSTART:20230312T070000
END:DAYLIGHT
BEGIN:STANDARD
TZOFFSETFROM:-0400
TZOFFSETTO:-0500
TZNAME:EST
DTSTART:20231105T060000
END:STANDARD
BEGIN:DAYLIGHT
TZOFFSETFROM:-0500
TZOFFSETTO:-0400
TZNAME:EDT
DTSTART:20240310T070000
END:DAYLIGHT
BEGIN:STANDARD
TZOFFSETFROM:-0400
TZOFFSETTO:-0500
TZNAME:EST
DTSTART:20241103T060000
END:STANDARD
BEGIN:DAYLIGHT
TZOFFSETFROM:-0500
TZOFFSETTO:-0400
TZNAME:EDT
DTSTART:20250309T070000
END:DAYLIGHT
BEGIN:STANDARD
TZOFFSETFROM:-0400
TZOFFSETTO:-0500
TZNAME:EST
DTSTART:20251102T060000
END:STANDARD
END:VTIMEZONE
BEGIN:VEVENT
DTSTART;TZID=America/Detroit:20241111T110000
DTEND;TZID=America/Detroit:20241111T160000
DTSTAMP:20260425T095355
CREATED:20240905T191313Z
LAST-MODIFIED:20260129T212650Z
UID:8477-1731322800-1731340800@womenoftomorrow.org
SUMMARY:Rosé Day® Miami
DESCRIPTION:
URL:https://womenoftomorrow.org/event/rose-day-2024/
LOCATION:Ceconni’s Miami Beach Soho Beach House\, 4385 Collins Ave\, Miami Beach\, Florida\, 33140
CATEGORIES:South Florida
ATTACH;FMTTYPE=image/png:https://womenoftomorrow.org/wp-content/uploads/2024/09/Rose-Day-Miami-2024.png
END:VEVENT
END:VCALENDAR