BEGIN:VCALENDAR
VERSION:2.0
PRODID:-//Women of Tomorrow - ECPv6.15.20//NONSGML v1.0//EN
CALSCALE:GREGORIAN
METHOD:PUBLISH
X-ORIGINAL-URL:https://womenoftomorrow.org
X-WR-CALDESC:Events for Women of Tomorrow
REFRESH-INTERVAL;VALUE=DURATION:PT1H
X-Robots-Tag:noindex
X-PUBLISHED-TTL:PT1H
BEGIN:VTIMEZONE
TZID:America/Detroit
BEGIN:DAYLIGHT
TZOFFSETFROM:-0500
TZOFFSETTO:-0400
TZNAME:EDT
DTSTART:20230312T070000
END:DAYLIGHT
BEGIN:STANDARD
TZOFFSETFROM:-0400
TZOFFSETTO:-0500
TZNAME:EST
DTSTART:20231105T060000
END:STANDARD
BEGIN:DAYLIGHT
TZOFFSETFROM:-0500
TZOFFSETTO:-0400
TZNAME:EDT
DTSTART:20240310T070000
END:DAYLIGHT
BEGIN:STANDARD
TZOFFSETFROM:-0400
TZOFFSETTO:-0500
TZNAME:EST
DTSTART:20241103T060000
END:STANDARD
BEGIN:DAYLIGHT
TZOFFSETFROM:-0500
TZOFFSETTO:-0400
TZNAME:EDT
DTSTART:20250309T070000
END:DAYLIGHT
BEGIN:STANDARD
TZOFFSETFROM:-0400
TZOFFSETTO:-0500
TZNAME:EST
DTSTART:20251102T060000
END:STANDARD
END:VTIMEZONE
BEGIN:VEVENT
DTSTART;TZID=America/Detroit:20240316T000000
DTEND;TZID=America/Detroit:20240316T235959
DTSTAMP:20260421T215931
CREATED:20240611T184823Z
LAST-MODIFIED:20260129T212624Z
UID:8152-1710547200-1710633599@womenoftomorrow.org
SUMMARY:23rd Annual Gala
DESCRIPTION:The Women of Tomorrow® Mentor & Scholarship Program celebrated its 23rd Annual Gala and over 27 years of working to improve the lives of at-risk high school students by remembering the life of television executive and Women of Tomorrow® Co-Founder Don Browne.SocialMiami – Women of Tomorrow 23rd Annual Gala
URL:https://womenoftomorrow.org/event/women-of-tomorrow-23rd-annual-gala/
LOCATION:Michigan
CATEGORIES:South Florida
ATTACH;FMTTYPE=image/jpeg:https://womenoftomorrow.org/wp-content/uploads/2024/06/CHRIST-1.jpg
END:VEVENT
END:VCALENDAR